BEGIN:VCALENDAR
VERSION:2.0
PRODID:spatie/icalendar-generator
DESCRIPTION:Events from Morristown Gun Club
X-WR-CALDESC:Events from Morristown Gun Club
REFRESH-INTERVAL;VALUE=DURATION:PT1440M
X-PUBLISHED-TTL:PT1440M
BEGIN:VTIMEZONE
TZID:America/Chicago
BEGIN:STANDARD
DTSTART:20141102T020000Z
TZOFFSETFROM:-0500
TZOFFSETTO:-0600
END:STANDARD
BEGIN:DAYLIGHT
DTSTART:20150308T020000Z
TZOFFSETFROM:-0600
TZOFFSETTO:-0500
END:DAYLIGHT
BEGIN:STANDARD
DTSTART:20151101T020000Z
TZOFFSETFROM:-0500
TZOFFSETTO:-0600
END:STANDARD
END:VTIMEZONE
BEGIN:VTIMEZONE
TZID:UTC
BEGIN:STANDARD
DTSTART:20250727T164154Z
TZOFFSETFROM:+0000
TZOFFSETTO:+0000
END:STANDARD
END:VTIMEZONE
BEGIN:VEVENT
UID:935-58
DTSTAMP:20260423T164154Z
SUMMARY:WEM Jr High Trap Team 5pm-Dusk
LOCATION:
ORGANIZER;CN=morristo:MAILTO:boblacx@gmail.com
DTSTART;TZID=America/Chicago:20150519T000000
DTEND;TZID=America/Chicago:20150520T000000
X-ALT-DESC;FMTTYPE=TEXT/HTML:
CATEGORIES:Special Events
URL;VALUE=URI:https://morristowngunclub.com/mc-events/wem-jr-high-trap-team
 -5pm-dusk-2/
METHOD:PUBLISH
END:VEVENT
END:VCALENDAR