BEGIN:VCALENDAR
VERSION:2.0
PRODID:spatie/icalendar-generator
DESCRIPTION:Events from Morristown Gun Club
X-WR-CALDESC:Events from Morristown Gun Club
REFRESH-INTERVAL;VALUE=DURATION:PT1440M
X-PUBLISHED-TTL:PT1440M
BEGIN:VTIMEZONE
TZID:America/Chicago
BEGIN:STANDARD
DTSTART:20251102T020000Z
TZOFFSETFROM:-0500
TZOFFSETTO:-0600
END:STANDARD
BEGIN:DAYLIGHT
DTSTART:20260308T020000Z
TZOFFSETFROM:-0600
TZOFFSETTO:-0500
END:DAYLIGHT
BEGIN:STANDARD
DTSTART:20261101T020000Z
TZOFFSETFROM:-0500
TZOFFSETTO:-0600
END:STANDARD
END:VTIMEZONE
BEGIN:VTIMEZONE
TZID:UTC
BEGIN:STANDARD
DTSTART:20250729T160123Z
TZOFFSETFROM:+0000
TZOFFSETTO:+0000
END:STANDARD
END:VTIMEZONE
BEGIN:VEVENT
UID:7612-929
DTSTAMP:20260425T160123Z
SUMMARY:Mother's Day Special
LOCATION:
ORGANIZER;CN=Britnee:MAILTO:britnee.olson21@gmail.com
DTSTART;TZID=America/Chicago;VALUE=DATE:20260510
DTEND;TZID=America/Chicago;VALUE=DATE:20260511
X-ALT-DESC;FMTTYPE=TEXT/HTML:Mom's - Come out to the club\, bring your chil
 dren with you and you get a round on us! Happy Mother's Day!
CATEGORIES:Special Events
URL;VALUE=URI:https://morristowngunclub.com/mc-events/mothers-day-special/
METHOD:PUBLISH
END:VEVENT
END:VCALENDAR