BEGIN:VCALENDAR
VERSION:2.0
PRODID:spatie/icalendar-generator
DESCRIPTION:Events from Morristown Gun Club
X-WR-CALDESC:Events from Morristown Gun Club
REFRESH-INTERVAL;VALUE=DURATION:PT1440M
X-PUBLISHED-TTL:PT1440M
BEGIN:VTIMEZONE
TZID:America/Chicago
BEGIN:STANDARD
DTSTART:20241103T020000Z
TZOFFSETFROM:-0500
TZOFFSETTO:-0600
END:STANDARD
BEGIN:DAYLIGHT
DTSTART:20250309T020000Z
TZOFFSETFROM:-0600
TZOFFSETTO:-0500
END:DAYLIGHT
END:VTIMEZONE
BEGIN:VTIMEZONE
TZID:UTC
BEGIN:STANDARD
DTSTART:20250723T124831Z
TZOFFSETFROM:+0000
TZOFFSETTO:+0000
END:STANDARD
END:VTIMEZONE
BEGIN:VEVENT
UID:7413-796
DTSTAMP:20260419T124831Z
SUMMARY:Member Meeting
LOCATION:
ORGANIZER;CN=Britnee:MAILTO:britnee.olson21@gmail.com
DTSTART;TZID=America/Chicago:20250407T190000
DTEND;TZID=America/Chicago:20250407T200000
X-ALT-DESC;FMTTYPE=TEXT/HTML:
CATEGORIES:Club Meeting
URL;VALUE=URI:https://morristowngunclub.com/mc-events/member-meeting-3/
METHOD:PUBLISH
END:VEVENT
END:VCALENDAR