BEGIN:VCALENDAR
VERSION:2.0
PRODID:spatie/icalendar-generator
DESCRIPTION:Events from Morristown Gun Club
X-WR-CALDESC:Events from Morristown Gun Club
REFRESH-INTERVAL;VALUE=DURATION:PT1440M
X-PUBLISHED-TTL:PT1440M
BEGIN:VTIMEZONE
TZID:America/Chicago
BEGIN:DAYLIGHT
DTSTART:20180311T020000Z
TZOFFSETFROM:-0600
TZOFFSETTO:-0500
END:DAYLIGHT
BEGIN:STANDARD
DTSTART:20181104T020000Z
TZOFFSETFROM:-0500
TZOFFSETTO:-0600
END:STANDARD
BEGIN:DAYLIGHT
DTSTART:20190310T020000Z
TZOFFSETFROM:-0600
TZOFFSETTO:-0500
END:DAYLIGHT
END:VTIMEZONE
BEGIN:VTIMEZONE
TZID:UTC
BEGIN:STANDARD
DTSTART:20250725T163523Z
TZOFFSETFROM:+0000
TZOFFSETTO:+0000
END:STANDARD
END:VTIMEZONE
BEGIN:VEVENT
UID:6822-345
DTSTAMP:20260421T163523Z
SUMMARY:Clay Targets Arrive @ 11am - All Hands On Board!!!
LOCATION:
ORGANIZER;CN=morristo:MAILTO:boblacx@gmail.com
DTSTART;TZID=America/Chicago;VALUE=DATE:20181109
DTEND;TZID=America/Chicago;VALUE=DATE:20181110
X-ALT-DESC;FMTTYPE=TEXT/HTML:All Hands On Board Please
CATEGORIES:Special Events
URL;VALUE=URI:
METHOD:PUBLISH
END:VEVENT
END:VCALENDAR